BEGIN:VCALENDAR
VERSION:2.0
PRODID:-//Tukios.com/
BEGIN:VEVENT
UID:894984d1-fe10-4b69-a0e9-c029feacdfaa@www.lehmandzendzelfh.com
DTSTAMP:20260422T184325Z
DTSTART:20260425
SUMMARY:Privat Family Celebration of Life
DESCRIPTION:
URL:https://www.lehmandzendzelfh.com/obituaries/marjorie-elaine
LOCATION: 215 S. Main St.  Celina OH 45822-1135
GEO:40.5474954;-84.5711905
END:VEVENT
END:VCALENDAR